BEGIN:VCALENDAR
VERSION:2.0
PRODID:-//Bradenton Motorsports Park - ECPv6.15.20//NONSGML v1.0//EN
CALSCALE:GREGORIAN
METHOD:PUBLISH
X-ORIGINAL-URL:https://racebmp.com
X-WR-CALDESC:Events for Bradenton Motorsports Park
REFRESH-INTERVAL;VALUE=DURATION:PT1H
X-Robots-Tag:noindex
X-PUBLISHED-TTL:PT1H
BEGIN:VTIMEZONE
TZID:America/New_York
BEGIN:DAYLIGHT
TZOFFSETFROM:-0500
TZOFFSETTO:-0400
TZNAME:EDT
DTSTART:20250309T070000
END:DAYLIGHT
BEGIN:STANDARD
TZOFFSETFROM:-0400
TZOFFSETTO:-0500
TZNAME:EST
DTSTART:20251102T060000
END:STANDARD
BEGIN:DAYLIGHT
TZOFFSETFROM:-0500
TZOFFSETTO:-0400
TZNAME:EDT
DTSTART:20260308T070000
END:DAYLIGHT
BEGIN:STANDARD
TZOFFSETFROM:-0400
TZOFFSETTO:-0500
TZNAME:EST
DTSTART:20261101T060000
END:STANDARD
BEGIN:DAYLIGHT
TZOFFSETFROM:-0500
TZOFFSETTO:-0400
TZNAME:EDT
DTSTART:20270314T070000
END:DAYLIGHT
BEGIN:STANDARD
TZOFFSETFROM:-0400
TZOFFSETTO:-0500
TZNAME:EST
DTSTART:20271107T060000
END:STANDARD
END:VTIMEZONE
BEGIN:VEVENT
DTSTART;VALUE=DATE:20260905
DTEND;VALUE=DATE:20260907
DTSTAMP:20260423T181310
CREATED:20251210T172423Z
LAST-MODIFIED:20260109T005119Z
UID:19054-1788566400-1788739199@racebmp.com
SUMMARY:NHRA Points Bracket Weekend
DESCRIPTION:
URL:https://racebmp.com/event/nhra-points-bracket-weekend-4/
LOCATION:Bradenton Motorsports Park\, 21000 SR. 64\, Bradenton\, FL\, 34212\, United States
CATEGORIES:Drag Race
ORGANIZER;CN="Bradenton Motorsports Park":MAILTO:info@bradentonmotorsports.com
END:VEVENT
BEGIN:VEVENT
DTSTART;VALUE=DATE:20260919
DTEND;VALUE=DATE:20260921
DTSTAMP:20260423T181310
CREATED:20251210T172559Z
LAST-MODIFIED:20260109T005332Z
UID:19056-1789776000-1789948799@racebmp.com
SUMMARY:NHRA Points Bracket Weekend
DESCRIPTION:
URL:https://racebmp.com/event/nhra-points-bracket-weekend-5/
LOCATION:Bradenton Motorsports Park\, 21000 SR. 64\, Bradenton\, FL\, 34212\, United States
CATEGORIES:Drag Race
ORGANIZER;CN="Bradenton Motorsports Park":MAILTO:info@bradentonmotorsports.com
END:VEVENT
END:VCALENDAR