BEGIN:VCALENDAR
VERSION:2.0
PRODID:-//Bradenton Motorsports Park - ECPv6.15.20//NONSGML v1.0//EN
CALSCALE:GREGORIAN
METHOD:PUBLISH
X-WR-CALNAME:Bradenton Motorsports Park
X-ORIGINAL-URL:https://racebmp.com
X-WR-CALDESC:Events for Bradenton Motorsports Park
REFRESH-INTERVAL;VALUE=DURATION:PT1H
X-Robots-Tag:noindex
X-PUBLISHED-TTL:PT1H
BEGIN:VTIMEZONE
TZID:America/New_York
BEGIN:DAYLIGHT
TZOFFSETFROM:-0500
TZOFFSETTO:-0400
TZNAME:EDT
DTSTART:20250309T070000
END:DAYLIGHT
BEGIN:STANDARD
TZOFFSETFROM:-0400
TZOFFSETTO:-0500
TZNAME:EST
DTSTART:20251102T060000
END:STANDARD
BEGIN:DAYLIGHT
TZOFFSETFROM:-0500
TZOFFSETTO:-0400
TZNAME:EDT
DTSTART:20260308T070000
END:DAYLIGHT
BEGIN:STANDARD
TZOFFSETFROM:-0400
TZOFFSETTO:-0500
TZNAME:EST
DTSTART:20261101T060000
END:STANDARD
BEGIN:DAYLIGHT
TZOFFSETFROM:-0500
TZOFFSETTO:-0400
TZNAME:EDT
DTSTART:20270314T070000
END:DAYLIGHT
BEGIN:STANDARD
TZOFFSETFROM:-0400
TZOFFSETTO:-0500
TZNAME:EST
DTSTART:20271107T060000
END:STANDARD
END:VTIMEZONE
BEGIN:VEVENT
DTSTART;TZID=America/New_York:20260205T090000
DTEND;TZID=America/New_York:20260205T150000
DTSTAMP:20260423T113101
CREATED:20251219T024211Z
LAST-MODIFIED:20260201T162517Z
UID:19200-1770282000-1770303600@racebmp.com
SUMMARY:Sick Week Day
DESCRIPTION:Sick Week is coming to Bradenton Motorsports Park! \nBe here early! Unlike eliminations-style racing\, a drag and drive event is all about getting one good run on each day. Many of the best runs can come early in the morning. Just like you might miss the best touchdown if you arrive late to a football game\, drag-and-drive has action at every moment! \nYou’ll see five-second\, 250 mph street cars driven by the biggest names in the sport including Jeff Lutz\, Tom Bailey\, Alex Taylor\, Steve Morris\, Brett LaSala\, Bryant Goldstone\, and more! They’ll be joined by 350 of the baddest street cars in the land. \nThe party continues throughout the pits where you’ll see Cleetus McFarland\, JH Diesel\, Mike Finnegan\, Emily Reeves\, Street Racing Channel\, Old Man’s Garage\, Nivlac57 and even the What No Way Guy racing and cruising across the entire week. \nRacer gates open: 7am\nSpectator gates: 8am\nTrack hot: 9am – 3pm \nTickets $35 at the gate. \nKids 12 and under are FREE! \nEVERY ticket includes pit access!
URL:https://racebmp.com/event/sick-week-day/
LOCATION:Bradenton Motorsports Park\, 21000 SR. 64\, Bradenton\, FL\, 34212\, United States
CATEGORIES:Drag Race
ORGANIZER;CN="Bradenton Motorsports Park":MAILTO:info@bradentonmotorsports.com
END:VEVENT
BEGIN:VEVENT
DTSTART;VALUE=DATE:20260207
DTEND;VALUE=DATE:20260209
DTSTAMP:20260423T113101
CREATED:20251118T155951Z
LAST-MODIFIED:20260109T002013Z
UID:18267-1770422400-1770595199@racebmp.com
SUMMARY:NHRA Points Bracket Weekend
DESCRIPTION:
URL:https://racebmp.com/event/full-throttle-test-tune-2/
LOCATION:Bradenton Motorsports Park\, 21000 SR. 64\, Bradenton\, FL\, 34212\, United States
CATEGORIES:Drag Race
ORGANIZER;CN="Bradenton Motorsports Park":MAILTO:info@bradentonmotorsports.com
END:VEVENT
BEGIN:VEVENT
DTSTART;VALUE=DATE:20260226
DTEND;VALUE=DATE:20260301
DTSTAMP:20260423T113101
CREATED:20251106T185647Z
LAST-MODIFIED:20260218T184602Z
UID:18548-1772064000-1772323199@racebmp.com
SUMMARY:World Series of Pro Mod
DESCRIPTION:7TH Annual \nWorld Series of Pro Mod presented by DRAG ILLUSTRATEDFebruary 26–28\, 2026\nTrack Radio Station: 95.3 FM\n The World Series of Pro Mod presented by J&A Service is the crown jewel of the Drag Illustrated Winter Series – and the biggest\, richest Pro Mod drag race in the history of the known universe. Every February\, the world’s best gather at Bradenton Motorsports Park to chase $150\,000 and drag racing immortality. This is where reputations are built\, legends are born\, and only one driver leaves with the belt. With star-studded fields\, record-breaking performances\, and electric energy from the fans\, the WSOPM has become drag racing’s Super Bowl. Three days of side-by-side Pro Mod warfare and action – this is the one everyone wants to win. \nBUY TICKETS \n\n																\n															 \nThe World Series of Pro Mod presented by J&A Service is the grand finale of the Drag Illustrated Winter Series and the most anticipated standalone event in all of doorslammer drag racing. \nDubbed “The Biggest and Richest Pro Mod Race in the Known Universe\,” the WSOPM brings together the top 80+ drivers from around the world for a no-holds-barred\, chip-draw shootout where only the best survive. $150\,000-to-win. No qualifying ladders. No easy rounds. Every race is a main event. \nHosted at the world-renowned Bradenton Motorsports Park\, this invitation-only spectacle draws record crowds and international attention with its unbeatable mix of showmanship\, competition\, and storytelling. Fans can expect a full weekend of elite-level racing\, driver introductions\, autograph sessions\, pyrotechnics\, music\, food\, and nIllegalChars entertainment – all wrapped in the energy that defines the Drag Illustrated Winter Series presented by J&A Service. \nBeyond the Pro Mod main event\, fans will enjoy a supporting lineup of elite sportsman classes\, and the conclusion of the Elite Motorsports Million\, a $1\,000\,000 bonus for any driver who sweeps all three Winter Series races. \nThis is the ultimate test of performance\, nerve\, and consistency. The pinnacle of outlaw drag racing. Be part of history when the world’s best Pro Mod drivers take the stage at the World Series of Pro Mod – where one pass can make you a legend forever. \nWatch the Live Stream here: https://www.floracing.com \n				ticket prices\n					general admission \nFull Event VIP Package\, Thu-Sat: $225\nFull Event Fan Package\, Thu-Sat: $150\nFull Event\, Thu-Sat: $105\n2-Day\, Fri-Sat: $80 \nSingle Day\, Thu: $35\nSingle Day\, Fri or Sat: $40\nChildren Under 12: FREE \nSpectator Gate: Gate 1\nSchedule show and information subject to change \n\n					GET TICKETS\n					MORE INFO\n				payouts\n																														 \nOUTLAW PRO MOD\nRULES \n\n\n\nFINISH\nPAYOUT\n\n\nWINNER takes ALL\n$150\,000\n\n\nCar & Driver Entry\n$2\,000\n\n\n\n32 car field1/8 mile \ntech card includes driver\, 4 crew tickets\, & Thursday testing \n																														 \nTRUE 10.5\nRULES \n\n\n\nFINISH\nPAYOUT\n\n\nWINNER takes ALL\n$40\,000\n\n\nCar & Driver Entry\n$1\,000\n\n\n\n32 car field. \n																														 \nPRO 10.5\nRULES \n\n\n\nFINISH\nPAYOUT\n\n\nWINNER takes ALL\n$25\,000\n\n\nCar & Driver Entry\n$1\,000\n\n\n\n32 car field1/8 mile \nIncludes tech card and driver gate admission \n																														 \nlil’ gangstas\nRULES \n\n\n\nFINISH\nPAYOUT\n\n\nWINNER takes ALL\n$20\,000\n\n\nCar & Driver Entry\n$400\n\n\n\n64 car fieldIncludes tech card and driver gate admission \n																														 \n4.60 BIKE\nRULES \n\n\n\nFINISH\nPAYOUT\n\n\nWINNER\n$4\,600\n\n\nRunner-Up\n$1\,000\n\n\nBike & Rider Entry\n$200\n\n\n\n32 bike field. 1/8 mile. Time runs Saturday\, race Sunday. \nIncludes tech card and rider gate admission. \n																														 \n6.50 INDEX\nRULES \n\n\n\nFINISH\nPAYOUT\n\n\nWINNER\n$2\,500\n\n\nRunner-Up\n$1\,000\n\n\nSemi-Finals\n$200\n\n\nCar & Driver Entry\n$200\n\n\n\n32 cars. All run field. 1/8 mile. Time runs Saturday\, race Sunday.Includes tech card and driver gate admission. \n																														 \n7.50 INDEX\nRULES \n\n\n\nFINISH\nPAYOUT\n\n\nWINNER\n$2\,500\n\n\nRunner-Up\n$1\,000\n\n\nSemi-Finals\n$200\n\n\nCar & Driver Entry\n$200\n\n\n\n32 cars. All run field. 1/8 mile. Time runs Saturday\, race Sunday.Includes tech card and driver gate admission. \n																														 \nSUPER PRO\nRULES \n\n\n\nFINISH\nPAYOUT\n\n\nWINNER\n$2\,500\n\n\nRunner-Up\n$1\,000\n\n\nSemi-Finals\n$200\n\n\nCar & Driver Entry\n$200\n\n\n\n48 cars. All run field. 1/8 mile. Time runs Saturday\, race Sunday.Includes tech card and driver gate admission. \n																														 \nJR. DRAGSTER\nRULES \n\n\n\nFINISH\nPAYOUT\n\n\nWINNER\n$500\n\n\nRunner-Up\n$150\n\n\nSemi-Finals\n$75\n\n\nCar & Driver Entry\n$50\n\n\n\n32 car field. 1/8 mile. Time runs Saturday\, race Sunday.Includes tech card and driver gate admission. \n				schedule				 \n***SCHEDULE SUBJECT TO CHANGE WITHOUT NOTICE***\n																\n															 \nSunday\, February 22\nEarly Arrival Parking for Racers and CrewPit Gate Open: 12:00 PM-5:00 PM \nMonday\, February 23\nEarly Arrival Parking for Racers\, Crew\, and VendorsPit Gate Open: 8:00 AMPro Test Session: 12:00 PM – 7:00 PM ($300 per car. Limited to 100 cars.)Gate Secured 8:00 PM \nTuesday\, February 24\nEarly Arrival Parking for Racers\, Crew\, and VendorsPit Gate Open: 8:00 AMRacer Tech & Registration for all classes: 12:00 PM – 6:00 PMPRO MOD TESTING ONLY: 10:00 AM – 5:00 PM (Staging Lanes Close at 4:30 PM)Gate Secured: 7:00 PM \nWednesday\, February 25\nEarly Arrival Parking for Racers\, Crew\, and VendorsPit Gate Open: 8:00 AMRacer Tech & Registration: 9:00 AM – 6:00 PMPro Test Session: 10:00 AM – 5:00 PM ($300 per car. Limited to 100 cars.)Gate Secured: 7:00 PM \nThursday\, February 26\nTHURSDAY QUALIFYINGRUN ORDER: TBDPit Gate Open: 7:00 AM Racer Tech & Registration: 8:00 AM – 4:00 PMSpectator Gates Open: 8:00 AMGates Secured 10:00 PM \nFriday\, February 27\nFRIDAY QUALIFYINGRUN ORDER: TBDPit Gate Open: 7:00 AMRacer Tech & Registration: 8:00 AM – 4:00 PMSpectator Gates Open: 8:00 AMGate Secured: 10:00 PM \nSaturday\, February 28\nRUN ORDER: TBDPit Gate Open: 7:00 AMSpectator Gates Open: 8:00 AMEliminations: 9:00 AMFinals TBDGate Secured: 10:00 PM \n***SCHEDULE SUBJECT TO CHANGE WITHOUT NOTICE***
URL:https://racebmp.com/event/wsopm-2026/
LOCATION:Bradenton Motorsports Park\, 21000 SR. 64\, Bradenton\, FL\, 34212\, United States
CATEGORIES:Drag Race
ATTACH;FMTTYPE=image/jpeg:https://racebmp.com/wp-content/uploads/2025/11/2026-WSOPM-Main.jpg
ORGANIZER;CN="Drag Illustrated":MAILTO:info@dragillustrated.com
END:VEVENT
END:VCALENDAR