BEGIN:VCALENDAR
VERSION:2.0
PRODID:-//Bradenton Motorsports Park - ECPv6.15.20//NONSGML v1.0//EN
CALSCALE:GREGORIAN
METHOD:PUBLISH
X-ORIGINAL-URL:https://racebmp.com
X-WR-CALDESC:Events for Bradenton Motorsports Park
REFRESH-INTERVAL;VALUE=DURATION:PT1H
X-Robots-Tag:noindex
X-PUBLISHED-TTL:PT1H
BEGIN:VTIMEZONE
TZID:America/New_York
BEGIN:DAYLIGHT
TZOFFSETFROM:-0500
TZOFFSETTO:-0400
TZNAME:EDT
DTSTART:20240310T070000
END:DAYLIGHT
BEGIN:STANDARD
TZOFFSETFROM:-0400
TZOFFSETTO:-0500
TZNAME:EST
DTSTART:20241103T060000
END:STANDARD
BEGIN:DAYLIGHT
TZOFFSETFROM:-0500
TZOFFSETTO:-0400
TZNAME:EDT
DTSTART:20250309T070000
END:DAYLIGHT
BEGIN:STANDARD
TZOFFSETFROM:-0400
TZOFFSETTO:-0500
TZNAME:EST
DTSTART:20251102T060000
END:STANDARD
BEGIN:DAYLIGHT
TZOFFSETFROM:-0500
TZOFFSETTO:-0400
TZNAME:EDT
DTSTART:20260308T070000
END:DAYLIGHT
BEGIN:STANDARD
TZOFFSETFROM:-0400
TZOFFSETTO:-0500
TZNAME:EST
DTSTART:20261101T060000
END:STANDARD
END:VTIMEZONE
BEGIN:VEVENT
DTSTART;VALUE=DATE:20251101
DTEND;VALUE=DATE:20251102
DTSTAMP:20260423T152953
CREATED:20250103T014426Z
LAST-MODIFIED:20251020T171133Z
UID:15877-1761955200-1762041599@racebmp.com
SUMMARY:Race For Cure
DESCRIPTION:Event Details \nGates open: 7:30am\nTrack hot: 9am
URL:https://racebmp.com/event/race-for-cure/
LOCATION:Bradenton Motorsports Park\, 21000 SR. 64\, Bradenton\, FL\, 34212\, United States
CATEGORIES:Drag Race
ORGANIZER;CN="Bradenton Motorsports Park":MAILTO:info@bradentonmotorsports.com
END:VEVENT
BEGIN:VEVENT
DTSTART;VALUE=DATE:20251128
DTEND;VALUE=DATE:20251201
DTSTAMP:20260423T152953
CREATED:20250103T014547Z
LAST-MODIFIED:20251121T175307Z
UID:15876-1764288000-1764547199@racebmp.com
SUMMARY:The Birds
DESCRIPTION:The Birds Sportsman Finals\n\n\nSCHEDULE\nNovember 28-30\, 2025Thursday Early ParkingGates Open 4pm – 10pmFriday\, Saturday & Sunday(1) Time Run 9amRun Order Each Day: Sportsman\, No Box\, Box\,Pro Cycle\, Jr DragstersELIMINATIONS TO FOLLOW\n\nMore Info Coming Soon! \nClasses:Super Pro (Box)Pro (No Box)SportsmanPro CycleJr AdvancedJr. IntermediateJr. Novice
URL:https://racebmp.com/event/the-birds/
LOCATION:Bradenton Motorsports Park\, 21000 SR. 64\, Bradenton\, FL\, 34212\, United States
CATEGORIES:Drag Race
ORGANIZER;CN="Bradenton Motorsports Park":MAILTO:info@bradentonmotorsports.com
END:VEVENT
END:VCALENDAR