BEGIN:VCALENDAR
VERSION:2.0
PRODID:-//Bradenton Motorsports Park - ECPv6.15.20//NONSGML v1.0//EN
CALSCALE:GREGORIAN
METHOD:PUBLISH
X-ORIGINAL-URL:https://racebmp.com
X-WR-CALDESC:Events for Bradenton Motorsports Park
REFRESH-INTERVAL;VALUE=DURATION:PT1H
X-Robots-Tag:noindex
X-PUBLISHED-TTL:PT1H
BEGIN:VTIMEZONE
TZID:America/New_York
BEGIN:DAYLIGHT
TZOFFSETFROM:-0500
TZOFFSETTO:-0400
TZNAME:EDT
DTSTART:20240310T070000
END:DAYLIGHT
BEGIN:STANDARD
TZOFFSETFROM:-0400
TZOFFSETTO:-0500
TZNAME:EST
DTSTART:20241103T060000
END:STANDARD
BEGIN:DAYLIGHT
TZOFFSETFROM:-0500
TZOFFSETTO:-0400
TZNAME:EDT
DTSTART:20250309T070000
END:DAYLIGHT
BEGIN:STANDARD
TZOFFSETFROM:-0400
TZOFFSETTO:-0500
TZNAME:EST
DTSTART:20251102T060000
END:STANDARD
BEGIN:DAYLIGHT
TZOFFSETFROM:-0500
TZOFFSETTO:-0400
TZNAME:EDT
DTSTART:20260308T070000
END:DAYLIGHT
BEGIN:STANDARD
TZOFFSETFROM:-0400
TZOFFSETTO:-0500
TZNAME:EST
DTSTART:20261101T060000
END:STANDARD
END:VTIMEZONE
BEGIN:VEVENT
DTSTART;VALUE=DATE:20251002
DTEND;VALUE=DATE:20251006
DTSTAMP:20260423T163509
CREATED:20250103T014228Z
LAST-MODIFIED:20250910T001834Z
UID:15863-1759363200-1759708799@racebmp.com
SUMMARY:FL2K25
DESCRIPTION:
URL:https://racebmp.com/event/fl2k/
LOCATION:Bradenton Motorsports Park\, 21000 SR. 64\, Bradenton\, FL\, 34212\, United States
CATEGORIES:Drag Race
END:VEVENT
BEGIN:VEVENT
DTSTART;VALUE=DATE:20251024
DTEND;VALUE=DATE:20251026
DTSTAMP:20260423T163509
CREATED:20250103T014328Z
LAST-MODIFIED:20251014T212750Z
UID:15874-1761264000-1761436799@racebmp.com
SUMMARY:Out For Blood
DESCRIPTION:Florida N/T Racing is back with “Out For Blood 6” our latest Fall annual event featuring action packed clocks off racing! Come see the world record holding surface at the famous Bradenton Motorsports Park prepped by Wade Rich. \nWe are back with the racers competing for huge guaranteed payouts in Lil Gangsta Twin 10k Friday+Saturday\, Florida N/T Invitational\, Street Style Shootout and our invitational 28 shootout! Test and tune is open to EVERYONE! \nEvent Schedule Friday –\nGates Open: 4pm\nEarly Parking\nTest and Tune: 6pm-11pm\nGrudge Racing – Test & Tune\nAll Shootouts Chip Draw: 6pm\nLil Gangsta Shootout $10k To Win!\nFriday Single Day Spectator/Crew $30\nFriday Single Day Test & Tune Tech Card $50\nRacer Weekend Pass $160 (Fri/Sat Gate + Fri/Sat TNT Tech Cards) \nEvent Schedule Saturday –\nGates Open: 12pm\nTrack Hot: 2pm-11pm\nGrudge Racing – Test & Tune\nLil Gangsta Shootout $10k To Win!\nAll Shootouts Chip Draw 5:30pm\nSaturday Single Day Spectator/Crew $30\nSaturday Single Day Test & Tune Tech Card $50\nPit Parking $30\nFREE PARKING GATE 1\nKids 11 & Under FREE \n 
URL:https://racebmp.com/event/out-for-blood-2/
LOCATION:Bradenton Motorsports Park\, 21000 SR. 64\, Bradenton\, FL\, 34212\, United States
CATEGORIES:Drag Race
ORGANIZER;CN="Bradenton Motorsports Park":MAILTO:info@bradentonmotorsports.com
END:VEVENT
END:VCALENDAR